BEGIN:VCALENDAR
VERSION:2.0
PRODID:-//UPAP - ECPv6.2.8.2//NONSGML v1.0//EN
CALSCALE:GREGORIAN
METHOD:PUBLISH
X-WR-CALNAME:UPAP
X-ORIGINAL-URL:https://upap.edu.py
X-WR-CALDESC:Eventos para UPAP
REFRESH-INTERVAL;VALUE=DURATION:PT1H
X-Robots-Tag:noindex
X-PUBLISHED-TTL:PT1H
BEGIN:VTIMEZONE
TZID:America/Asuncion
BEGIN:STANDARD
TZOFFSETFROM:-0300
TZOFFSETTO:-0400
TZNAME:-04
DTSTART:20200322T030000
END:STANDARD
BEGIN:DAYLIGHT
TZOFFSETFROM:-0400
TZOFFSETTO:-0300
TZNAME:-03
DTSTART:20201004T040000
END:DAYLIGHT
END:VTIMEZONE
BEGIN:VEVENT
DTSTART;TZID=America/Asuncion:20201210T100000
DTEND;TZID=America/Asuncion:20201210T113000
DTSTAMP:20260420T105319
CREATED:20210625T144342Z
LAST-MODIFIED:20210628T010801Z
UID:16837-1607594400-1607599800@upap.edu.py
SUMMARY:Webinar en el marco de la celebración del 72° aniversario de la “Declaración Universal de los Derechos Humanos”
DESCRIPTION:A través del Ministerio de Relaciones Exteriores y Movilidad Humana de Ecuador\, la Universidad Politécnica y Artística del Paraguay (UPAP) hace extensiva la invitación a participar del Webinar denominado 72° aniversario de la “Declaración Universal de los Derechos Humanos”. \nEl encuentro virtual tendrá lugar los días jueves 10 a las 11:00 h y viernes 11 a las 10:30 h\, en celebración a los 72 años de la adopción de la Convención Universal de los Derechos Humanos por parte de la Asamblea General de las Naciones Unidas\, en los cuales serán abordados los siguientes temas: \n“Futuro del sistema universal de los derechos humanos en la etapa post pandemia»\, a cargo de: \n– Embajador Luis Gallegos\, Canciller de Ecuador.\n– Jan Jarab\, representante en América del Sur de la Oficina de la Alta Comisionada de las Naciones Unidas para los Derechos Humanos.\n– Alice Cruz\, relatora especial de las Naciones Unidas sobre la eliminación de la discriminación contra las personas afectadas por la lepra y sus familiares.\n– Miriam Estrada Castillo\, miembro del Grupo de Trabajo sobre Detención Arbitraria de Naciones Unidas.\n– José Ayala-Lasso\, primer Alto Comisionado de las Naciones Unidas para los Derechos Humanos. \n«Perspectivas del sistema interamericano de derechos humanos frente a la nueva realidad post COVID-19»\, a cargo de:\n– Embajador Luis Gallegos\, Canciller de Ecuador.\n– Joel Hernández García\, Comisionado y Presidente de la Comisión Interamericana de Derechos Humanos – CIDH.\n– Juan Pablo Morales\, Subsecretario de Derechos Humanos.\n– Farith Simon\, Decano del Colegio de Jurisprudencia de la Universidad San Francisco de Quito.
URL:https://upap.edu.py/eventos/webinar-en-el-marco-de-la-celebracion-del-72-aniversario-de-la-declaracion-universal-de-los-derechos-humanos/
ATTACH;FMTTYPE=image/png:https://upap.edu.py/wp-content/uploads/2021/06/UPAPConvencionDDHHWebDestacada_MO091220.png
END:VEVENT
END:VCALENDAR