BEGIN:VCALENDAR
VERSION:2.0
PRODID:-//UPAP - ECPv6.2.8.2//NONSGML v1.0//EN
CALSCALE:GREGORIAN
METHOD:PUBLISH
X-WR-CALNAME:UPAP
X-ORIGINAL-URL:https://upap.edu.py
X-WR-CALDESC:Eventos para UPAP
REFRESH-INTERVAL;VALUE=DURATION:PT1H
X-Robots-Tag:noindex
X-PUBLISHED-TTL:PT1H
BEGIN:VTIMEZONE
TZID:America/Asuncion
BEGIN:STANDARD
TZOFFSETFROM:-0300
TZOFFSETTO:-0400
TZNAME:-04
DTSTART:20200322T030000
END:STANDARD
BEGIN:DAYLIGHT
TZOFFSETFROM:-0400
TZOFFSETTO:-0300
TZNAME:-03
DTSTART:20201004T040000
END:DAYLIGHT
END:VTIMEZONE
BEGIN:VEVENT
DTSTART;TZID=America/Asuncion:20201218T100000
DTEND;TZID=America/Asuncion:20201218T190000
DTSTAMP:20260420T105319
CREATED:20210625T144100Z
LAST-MODIFIED:20211101T160331Z
UID:16832-1608285600-1608318000@upap.edu.py
SUMMARY:Jornada clausura del Proyecto ReiventArte 2020
DESCRIPTION:Invitamos a participar de la Jornada clausura del Proyecto “ReinventArte en tiempos de pandemia 2020”\, la actividad contará con el desarrollo de conferencias en las cuales se abordarán temáticas relacionadas al concurso\, está prevista para el viernes 18 de diciembre a través de la plataforma Zoom de 10:00 a 19:00 h. \nSe trata de una jornada interactiva que integrará conocimientos relacionados al arte\, el diseño creativo y la sustentabilidad\, a través de la participación de renombrados especialistas de estas áreas en el ámbito nacional.
URL:https://upap.edu.py/eventos/jornada-clausura-del-proyecto-reiventarte-2020/
LOCATION:Plataforma Zoom\, Paraguay
ATTACH;FMTTYPE=image/jpeg:https://upap.edu.py/wp-content/uploads/2021/06/UpapReinventarteDestacada_nm0720.jpg
ORGANIZER;CN="UPAP":MAILTO:info@upap.edu.py
END:VEVENT
END:VCALENDAR