BEGIN:VCALENDAR
VERSION:2.0
PRODID:-//UPAP - ECPv6.2.8.2//NONSGML v1.0//EN
CALSCALE:GREGORIAN
METHOD:PUBLISH
X-WR-CALNAME:UPAP
X-ORIGINAL-URL:https://upap.edu.py
X-WR-CALDESC:Eventos para UPAP
REFRESH-INTERVAL;VALUE=DURATION:PT1H
X-Robots-Tag:noindex
X-PUBLISHED-TTL:PT1H
BEGIN:VTIMEZONE
TZID:America/Asuncion
BEGIN:STANDARD
TZOFFSETFROM:-0300
TZOFFSETTO:-0400
TZNAME:-04
DTSTART:20210328T030000
END:STANDARD
BEGIN:DAYLIGHT
TZOFFSETFROM:-0400
TZOFFSETTO:-0300
TZNAME:-03
DTSTART:20211003T040000
END:DAYLIGHT
END:VTIMEZONE
BEGIN:VEVENT
DTSTART;TZID=America/Asuncion:20210129T190000
DTEND;TZID=America/Asuncion:20210129T200000
DTSTAMP:20260420T092223
CREATED:20210625T143427Z
LAST-MODIFIED:20211101T160304Z
UID:16826-1611946800-1611950400@upap.edu.py
SUMMARY:Conferencia sobre el nuevo Sistema Electoral Paraguayo tendrá lugar en la Filial San Pedro
DESCRIPTION:La Dirección de la Filial San Pedro de la Universidad Politécnica y Artística del Paraguay (UPAP)\, invita a la conferencia sobre el nuevo Sistema Electoral Paraguayo “Lista cerradas desbloqueadas y la Ley de Financiamiento Político”\, la misma tendrá lugar el próximo viernes 29 de enero de 19:00 a 21:00 h. La actividad se desarrollará bajo el estricto cumplimiento del protocolo sanitario vigente. \nSe trata de una conferencia enfocada a fortalecer los conocimientos de candidatos a intendentes y concejales municipales en el contexto de las próximas elecciones que tendrán lugar este año\, de manera que los mismos obtengan mayor información sobre las leyes que rigen al sector actualmente.
URL:https://upap.edu.py/eventos/conferencia-sobre-el-nuevo-sistema-electoral-paraguayo-tendra-lugar-en-la-filial-san-pedro/
LOCATION:Salón Auditorio – UPAP Filial San Pedro
ATTACH;FMTTYPE=image/png:https://upap.edu.py/wp-content/uploads/2021/06/UPAP-Conferencia-Sistema-Electoral-Cuadrado-MO2501-1.png
ORGANIZER;CN="UPAP":MAILTO:info@upap.edu.py
END:VEVENT
END:VCALENDAR