BEGIN:VCALENDAR
VERSION:2.0
PRODID:-//UPAP - ECPv6.2.8.2//NONSGML v1.0//EN
CALSCALE:GREGORIAN
METHOD:PUBLISH
X-ORIGINAL-URL:https://upap.edu.py
X-WR-CALDESC:Eventos para UPAP
REFRESH-INTERVAL;VALUE=DURATION:PT1H
X-Robots-Tag:noindex
X-PUBLISHED-TTL:PT1H
BEGIN:VTIMEZONE
TZID:America/Asuncion
BEGIN:STANDARD
TZOFFSETFROM:-0300
TZOFFSETTO:-0400
TZNAME:-04
DTSTART:20210328T030000
END:STANDARD
BEGIN:DAYLIGHT
TZOFFSETFROM:-0400
TZOFFSETTO:-0300
TZNAME:-03
DTSTART:20211003T040000
END:DAYLIGHT
END:VTIMEZONE
BEGIN:VEVENT
DTSTART;TZID=America/Asuncion:20210727T140000
DTEND;TZID=America/Asuncion:20210727T160000
DTSTAMP:20260419T203645
CREATED:20210712T203309Z
LAST-MODIFIED:20210712T203413Z
UID:18225-1627394400-1627401600@upap.edu.py
SUMMARY:“Barrios Sostenibles de la UPAP” será presentado en el Segundo Foro (virtual) de Creatividad Solidaria 2021
DESCRIPTION:En el marco de la Semana (virtual) Internacional de Diseño 2021 impulsada por la Universidad de Palermo\, la Mg. Verónica Viedma\, vicerrectora de la Universidad Politécnica y Artística del Paraguay (UPAP) en compañía del Lic. Luciano Gandolfo de la Dirección de Extensión Universitaria\, presentarán el proyecto denominado “Barrios Sostenibles de la UPAP” durante el Segundo Foro (virtual) de Creatividad Solidaria 2021. \nEl proyecto “Barrios Sostenibles de la UPAP” forma parte del programa de Extensión Universitaria de la institución\, específicamente en lo que respecta al intercambio entre la academia y la comunidad. Se trata de una propuesta estratégica de consolidación del barrio a través de la intervención integral de su territorio con su correspondiente propuesta normativa\, que toma como base el Plan Regulador Comunal\, una propuesta ambiental que busca restaurar y potenciar la infraestructura natural existente y una propuesta de gestión social\, que implica organización a nivel de desarrollo comunitario\, desarrollo socio económico y cultural.
URL:https://upap.edu.py/eventos/barrios-sostenibles-de-la-upap-sera-presentado-en-el-segundo-foro-virtual-de-creatividad-solidaria-2021/
ATTACH;FMTTYPE=image/png:https://upap.edu.py/wp-content/uploads/2021/07/PRESENTO-MI-PROYECTO-3-06.png
END:VEVENT
END:VCALENDAR