BEGIN:VCALENDAR
VERSION:2.0
PRODID:-//UPAP - ECPv6.2.8.2//NONSGML v1.0//EN
CALSCALE:GREGORIAN
METHOD:PUBLISH
X-ORIGINAL-URL:https://upap.edu.py
X-WR-CALDESC:Eventos para UPAP
REFRESH-INTERVAL;VALUE=DURATION:PT1H
X-Robots-Tag:noindex
X-PUBLISHED-TTL:PT1H
BEGIN:VTIMEZONE
TZID:America/Asuncion
BEGIN:STANDARD
TZOFFSETFROM:-0300
TZOFFSETTO:-0400
TZNAME:-04
DTSTART:20210328T030000
END:STANDARD
BEGIN:DAYLIGHT
TZOFFSETFROM:-0400
TZOFFSETTO:-0300
TZNAME:-03
DTSTART:20211003T040000
END:DAYLIGHT
END:VTIMEZONE
BEGIN:VEVENT
DTSTART;TZID=America/Asuncion:20210804T180000
DTEND;TZID=America/Asuncion:20210804T200000
DTSTAMP:20260419T203625
CREATED:20210720T213721Z
LAST-MODIFIED:20211101T155759Z
UID:18357-1628100000-1628107200@upap.edu.py
SUMMARY:Conversatorio ¿Cómo encarar el desafío laboral?
DESCRIPTION:El espacio tendrá lugar el próximo miércoles 4 de agosto a partir de las 18:00 h a través de la plataforma Zoom. El objetivo de la actividad es abordar los temas más relevantes en relación al proceso que implica la selección de personas para un puesto vacante\, teniendo en cuenta que la empresa Jobs es una de las más reconocidas en materia de gestión de recursos humanos\, tercerizaciones\, búsquedas\, selección y consultoría. \nEl conversatorio estará a cargo de Tania Gamarra y Alicia Petrik\, ambas del área Talent Experience de la empresa Jobs y será moderado por el Lic. Luciano Gandolfo\, en representación de la Dirección de Extensión Universitaria de la UPAP. \nLas profesionales en el área instruirán a los participantes con las estrategias más efectivas a tener en cuenta durante la búsqueda de empleo y postulación a un puesto vacante. También brindarán tips para la elaboración correcta de un currículum vitae y darán a conocer recomendaciones útiles a considerar durante una entrevista laboral.
URL:https://upap.edu.py/eventos/conversatorio-como-encarar-el-desafio-laboral/
LOCATION:Plataforma Zoom\, Paraguay
ATTACH;FMTTYPE=image/png:https://upap.edu.py/wp-content/uploads/2021/07/UPAP-ConversatorioJOBS-CuadradoFB-1080x1080-MO180721.png
ORGANIZER;CN="UPAP":MAILTO:info@upap.edu.py
END:VEVENT
END:VCALENDAR