BEGIN:VCALENDAR
VERSION:2.0
PRODID:-//UPAP - ECPv6.2.8.2//NONSGML v1.0//EN
CALSCALE:GREGORIAN
METHOD:PUBLISH
X-ORIGINAL-URL:https://upap.edu.py
X-WR-CALDESC:Eventos para UPAP
REFRESH-INTERVAL;VALUE=DURATION:PT1H
X-Robots-Tag:noindex
X-PUBLISHED-TTL:PT1H
BEGIN:VTIMEZONE
TZID:America/Asuncion
BEGIN:STANDARD
TZOFFSETFROM:-0300
TZOFFSETTO:-0400
TZNAME:-04
DTSTART:20210328T030000
END:STANDARD
BEGIN:DAYLIGHT
TZOFFSETFROM:-0400
TZOFFSETTO:-0300
TZNAME:-03
DTSTART:20211003T040000
END:DAYLIGHT
END:VTIMEZONE
BEGIN:VEVENT
DTSTART;TZID=America/Asuncion:20210819T180000
DTEND;TZID=America/Asuncion:20210819T203000
DTSTAMP:20260419T203624
CREATED:20210818T205134Z
LAST-MODIFIED:20211101T154745Z
UID:18807-1629396000-1629405000@upap.edu.py
SUMMARY:Conversatorio: procesos independentistas en Latinoamérica\, comparaciones entre Paraguay y Ecuador
DESCRIPTION:En el marco del convenio de cooperación entre la Universidad Politécnica y Artística del Paraguay (UPAP) y la Embajada de la República del Ecuador en Paraguay\, ambas instituciones invitan al conversatorio virtual “Los procesos de independencia en Sudamérica: una comparación entre Ecuador y Paraguay\, conmemorando los 212 años del Primer Grito de Independencia de la República de Ecuador”. \nLa actividad\, que será realizada mediante la plataforma Zoom\, está fijada para el jueves 19 de agosto\, de 18 a 20 h\, con participación libre para todos los interesados\, además\, contará con certificado de participación opcional.
URL:https://upap.edu.py/eventos/conversatorio-procesos-independentistas-en-latinoamerica-comparaciones-entre-paraguay-y-ecuador/
LOCATION:Plataforma Zoom\, Paraguay
ATTACH;FMTTYPE=image/jpeg:https://upap.edu.py/wp-content/uploads/2021/08/UPAP-Conv-ProcesosIndependencia-Cuadrado1080x1080-MO160821.jpg
ORGANIZER;CN="UPAP":MAILTO:info@upap.edu.py
END:VEVENT
END:VCALENDAR