BEGIN:VCALENDAR
VERSION:2.0
PRODID:-//UPAP - ECPv6.2.8.2//NONSGML v1.0//EN
CALSCALE:GREGORIAN
METHOD:PUBLISH
X-ORIGINAL-URL:https://upap.edu.py
X-WR-CALDESC:Eventos para UPAP
REFRESH-INTERVAL;VALUE=DURATION:PT1H
X-Robots-Tag:noindex
X-PUBLISHED-TTL:PT1H
BEGIN:VTIMEZONE
TZID:America/Asuncion
BEGIN:STANDARD
TZOFFSETFROM:-0300
TZOFFSETTO:-0400
TZNAME:-04
DTSTART:20210328T030000
END:STANDARD
BEGIN:DAYLIGHT
TZOFFSETFROM:-0400
TZOFFSETTO:-0300
TZNAME:-03
DTSTART:20211003T040000
END:DAYLIGHT
END:VTIMEZONE
BEGIN:VEVENT
DTSTART;TZID=America/Asuncion:20210825T100000
DTEND;TZID=America/Asuncion:20210825T120000
DTSTAMP:20260419T203624
CREATED:20210818T210004Z
LAST-MODIFIED:20211101T160549Z
UID:18811-1629885600-1629892800@upap.edu.py
SUMMARY:Decano de Postgrado participará del Primer Seminario Internacional Reimaginemos la Educación: perspectivas y desafíos
DESCRIPTION:El Dr. José Enrique Schröder\, en su carácter de decano de la Facultad de Estudios de Postgrado de la Universidad Politécnica y Artística del Paraguay (UPAP)\, participará como moderador durante el “Primer Seminario Internacional: Reimaginemos la Educación: perspectivas y desafíos” impulsado por la Dirección Corporativa de Desarrollo y Postgrados de la Universidad Autónoma de Chile. \nLos ejes temáticos girarán en torno a la tecnología educativa\, el cambio educativo en nuevos contextos y la inclusión en educación. La participación es gratuita y contará con certificación.
URL:https://upap.edu.py/eventos/decano-de-postgrado-participara-del-primer-seminario-internacional-reimaginemos-la-educacion-perspectivas-y-desafios/
LOCATION:Plataforma Microsoft Teams
ATTACH;FMTTYPE=image/jpeg:https://upap.edu.py/wp-content/uploads/2021/08/UPAP-SeminarioInternacional-Cuadrado1080x1080-MO160821.jpg
ORGANIZER;CN="UPAP":MAILTO:info@upap.edu.py
END:VEVENT
END:VCALENDAR