BEGIN:VCALENDAR
VERSION:2.0
PRODID:-//UPAP - ECPv6.2.8.2//NONSGML v1.0//EN
CALSCALE:GREGORIAN
METHOD:PUBLISH
X-WR-CALNAME:UPAP
X-ORIGINAL-URL:https://upap.edu.py
X-WR-CALDESC:Eventos para UPAP
REFRESH-INTERVAL;VALUE=DURATION:PT1H
X-Robots-Tag:noindex
X-PUBLISHED-TTL:PT1H
BEGIN:VTIMEZONE
TZID:America/Asuncion
BEGIN:STANDARD
TZOFFSETFROM:-0300
TZOFFSETTO:-0400
TZNAME:-04
DTSTART:20210328T030000
END:STANDARD
BEGIN:DAYLIGHT
TZOFFSETFROM:-0400
TZOFFSETTO:-0300
TZNAME:-03
DTSTART:20211003T040000
END:DAYLIGHT
END:VTIMEZONE
BEGIN:VEVENT
DTSTART;TZID=America/Asuncion:20211118T180000
DTEND;TZID=America/Asuncion:20211118T210000
DTSTAMP:20260419T151543
CREATED:20211117T124843Z
LAST-MODIFIED:20211117T124843Z
UID:19882-1637258400-1637269200@upap.edu.py
SUMMARY:Capacitación sobre oratoria profesional y académica
DESCRIPTION:La capacitación contempla el abordaje de las siguientes temáticas: \nTema 1: La oratoria en el ámbito profesional cargo de Teresa Chávez. Doctora Honoris Causa por la Cámara Internacional de Conferencistas\, Grado Gran Maestro Internacional. Maestría en Docencia Superior. Maestría en Programación Neurolingüística. Directora de la Universidad Mexicana CINDEHU\, sede Perú. Certificada en neurociencias\, mentoring\, recursos humanos\, liderazgo\, transformacional\, team building\, coaching ontológico\, en PNL y desarrollo del ser. \nTema 2: Oratoria académica a ser desarrollado por Luiggi Zucchetti. Consultor en Desarrollo Humano\, Empresarial y Educativo. Coach Sistémico Profesional acreditado por la Asociación Internacional de Coaching y Mentoring\, España. Doctorante en Administración Gerencial de la Universidad Benito Juárez\, México. Porta el rango de Gran Maestro Internacional conferido por la Cámara Internacional de Conferencistas. Formador Profesional de Oradores certificado por la Academia internacional de oratoria y alto liderazgo “La sagesse”. \nLa moderación del espacio estará a cargo de de Rolando Jara. Director Internacional de la Gestión del talento y presidente de la CIC- Paraguay. Director ejecutivo de la Cámara Internacional de Coaching. Máster Speaker y Trainer Internacional. Coach Ontológico Profesional. Coach con Programación Neurolingüística.
URL:https://upap.edu.py/eventos/capacitacion-sobre-oratoria-profesional-y-academica/
ATTACH;FMTTYPE=image/png:https://upap.edu.py/wp-content/uploads/2021/11/UPAP-CapacitacionOratoria-Cuadrado.png
END:VEVENT
END:VCALENDAR