BEGIN:VCALENDAR
VERSION:2.0
PRODID:-//UPAP - ECPv6.2.8.2//NONSGML v1.0//EN
CALSCALE:GREGORIAN
METHOD:PUBLISH
X-ORIGINAL-URL:https://upap.edu.py
X-WR-CALDESC:Eventos para UPAP
REFRESH-INTERVAL;VALUE=DURATION:PT1H
X-Robots-Tag:noindex
X-PUBLISHED-TTL:PT1H
BEGIN:VTIMEZONE
TZID:America/Asuncion
BEGIN:STANDARD
TZOFFSETFROM:-0300
TZOFFSETTO:-0400
TZNAME:-04
DTSTART:20210328T030000
END:STANDARD
BEGIN:DAYLIGHT
TZOFFSETFROM:-0400
TZOFFSETTO:-0300
TZNAME:-03
DTSTART:20211003T040000
END:DAYLIGHT
END:VTIMEZONE
BEGIN:VEVENT
DTSTART;TZID=America/Asuncion:20211203T160000
DTEND;TZID=America/Asuncion:20211203T170000
DTSTAMP:20260419T131859
CREATED:20211202T154958Z
LAST-MODIFIED:20211202T154958Z
UID:20160-1638547200-1638550800@upap.edu.py
SUMMARY:Taller de gestión y proceso de buenas prácticas en torno a la implementación de herramientas virtuales
DESCRIPTION:La Universidad Politécnica y Artística del Paraguay (UPAP) invita a la capacitación denominada “Taller de gestión y proceso de buenas prácticas en torno a la implementación de herramientas virtuales” a ser desarrollado el viernes 3 y lunes 6 de diciembre a las 16:00 h a través de la plataforma Canvas. \nEl espacio está dirigido a los docentes de la universidad y tiene por objetivo brindar herramientas para ampliar el conocimiento y el entendimiento que promuevan las buenas prácticas en el proceso de enseñanza-aprendizaje en torno a las herramientas virtuales en la búsqueda de la mejora educativa. \n 
URL:https://upap.edu.py/eventos/taller-de-gestion-y-proceso-de-buenas-practicas-en-torno-a-la-implementacion-de-herramientas-virtuales/
ATTACH;FMTTYPE=image/png:https://upap.edu.py/wp-content/uploads/2021/12/UPAP-Capacitacion-Docente-Cuadrado.png
END:VEVENT
END:VCALENDAR