BEGIN:VCALENDAR
VERSION:2.0
PRODID:-//UPAP - ECPv6.2.8.2//NONSGML v1.0//EN
CALSCALE:GREGORIAN
METHOD:PUBLISH
X-WR-CALNAME:UPAP
X-ORIGINAL-URL:https://upap.edu.py
X-WR-CALDESC:Eventos para UPAP
REFRESH-INTERVAL;VALUE=DURATION:PT1H
X-Robots-Tag:noindex
X-PUBLISHED-TTL:PT1H
BEGIN:VTIMEZONE
TZID:America/Asuncion
BEGIN:STANDARD
TZOFFSETFROM:-0300
TZOFFSETTO:-0400
TZNAME:-04
DTSTART:20220327T030000
END:STANDARD
BEGIN:DAYLIGHT
TZOFFSETFROM:-0400
TZOFFSETTO:-0300
TZNAME:-03
DTSTART:20221002T040000
END:DAYLIGHT
END:VTIMEZONE
BEGIN:VEVENT
DTSTART;TZID=America/Asuncion:20220216T170000
DTEND;TZID=America/Asuncion:20220216T190000
DTSTAMP:20260419T170156
CREATED:20220222T145751Z
LAST-MODIFIED:20220222T145751Z
UID:20648-1645030800-1645038000@upap.edu.py
SUMMARY:Capacitación sobre Gestión Cultural
DESCRIPTION:El Vicerrectorado Académico\, la Dirección de Extensión Universitaria y la Facultad de Artes y Tecnología de la Universidad Politécnica y Artística del Paraguay (UPAP) invitan a participar de la Capacitación sobre Gestión Cultural a desarrollarse los días miércoles 16 de febrero de 17:00 a 18:00 h en la modalidad virtual y jueves 17 de febrero en la filial Encarnación a las 19:00 en la modalidad presencial. \nDicha actividad\, presentada por Capital Creativo y ViedmArte Galería\, tiene como objetivo capacitar a los asistentes y formarlos en las temáticas de diseño y gestión de proyectos culturales\, así como en la profesionalización de la misma. La certificación es opcional y tiene un costo de G. 30.000\, los pagos pueden realizarse a través de las cajas de la UPAP.
URL:https://upap.edu.py/eventos/capacitacion-sobre-gestion-cultural/
ATTACH;FMTTYPE=image/png:https://upap.edu.py/wp-content/uploads/2022/02/Redes4-UPAP-Capacitacion-Gestion-de-Cultura.png
END:VEVENT
END:VCALENDAR