BEGIN:VCALENDAR
VERSION:2.0
PRODID:-//UPAP - ECPv6.2.8.2//NONSGML v1.0//EN
CALSCALE:GREGORIAN
METHOD:PUBLISH
X-WR-CALNAME:UPAP
X-ORIGINAL-URL:https://upap.edu.py
X-WR-CALDESC:Eventos para UPAP
REFRESH-INTERVAL;VALUE=DURATION:PT1H
X-Robots-Tag:noindex
X-PUBLISHED-TTL:PT1H
BEGIN:VTIMEZONE
TZID:America/Asuncion
BEGIN:STANDARD
TZOFFSETFROM:-0300
TZOFFSETTO:-0400
TZNAME:-04
DTSTART:20220327T030000
END:STANDARD
BEGIN:DAYLIGHT
TZOFFSETFROM:-0400
TZOFFSETTO:-0300
TZNAME:-03
DTSTART:20221002T040000
END:DAYLIGHT
END:VTIMEZONE
BEGIN:VEVENT
DTSTART;TZID=America/Asuncion:20220223T100000
DTEND;TZID=America/Asuncion:20220224T200000
DTSTAMP:20260419T170053
CREATED:20220222T145944Z
LAST-MODIFIED:20220222T145944Z
UID:20651-1645610400-1645732800@upap.edu.py
SUMMARY:Expo Universidades
DESCRIPTION:Los días miércoles 23 y jueves 24 de febrero de 10:00 a 20:00 h estaremos participando de la Expo Universidades\, impulsada por el diario Última Hora\, la actividad tendrá desarrollo en el estacionamiento del Shopping Mariscal López.\n\n \n\nDurante la expo\, la Universidad Politécnica y Artística del Paraguay (UPAP) brindará información detallada a los concurrentes sobre su amplia gama de ofertas académicas\, así como\, sobre los innumerables beneficios a los que acceden sus estudiantes\, el perfil profesional que obtendrán conforme a cada área y las posibilidades laborales que tendrán al culminar cualquiera de sus carreras profesionales.\n\n \n\nEste año\, en especial\, los interesados en incursionar en algunas de las siguientes carreras: Medicina\, Licenciatura en Administración Empresarial\, Abogacía\, Licenciatura en Ciencias Contables\, Licenciatura en Psicología\, Ingeniería Civil\, Arquitectura\, Licenciatura en Diseño Textil e Indumentaria\, Ingeniería en Informática\, Licenciatura en Comercio Exterior\, Licenciatura en Diseño Gráfico\, Licenciatura en Kinesiología\, podrán ahondar en informaciones que atañen a cada una\, como ser la duración\, el ámbito laboral y el perfil profesional que obtendrá el egresado.
URL:https://upap.edu.py/eventos/expo-universidades/
ATTACH;FMTTYPE=image/png:https://upap.edu.py/wp-content/uploads/2022/02/EXPOuniversidades-Redes1080x1080-2.png
END:VEVENT
END:VCALENDAR