BEGIN:VCALENDAR
VERSION:2.0
PRODID:-//UPAP - ECPv6.2.8.2//NONSGML v1.0//EN
CALSCALE:GREGORIAN
METHOD:PUBLISH
X-ORIGINAL-URL:https://upap.edu.py
X-WR-CALDESC:Eventos para UPAP
REFRESH-INTERVAL;VALUE=DURATION:PT1H
X-Robots-Tag:noindex
X-PUBLISHED-TTL:PT1H
BEGIN:VTIMEZONE
TZID:America/Asuncion
BEGIN:STANDARD
TZOFFSETFROM:-0300
TZOFFSETTO:-0400
TZNAME:-04
DTSTART:20220327T030000
END:STANDARD
BEGIN:DAYLIGHT
TZOFFSETFROM:-0400
TZOFFSETTO:-0300
TZNAME:-03
DTSTART:20221002T040000
END:DAYLIGHT
END:VTIMEZONE
BEGIN:VEVENT
DTSTART;TZID=America/Asuncion:20220225T190000
DTEND;TZID=America/Asuncion:20220225T203000
DTSTAMP:20260419T170340
CREATED:20220224T204708Z
LAST-MODIFIED:20220224T204708Z
UID:20701-1645815600-1645821000@upap.edu.py
SUMMARY:Conferencia Magistral sobre Estrategia y Comunicación Política
DESCRIPTION:La Universidad Politécnica y Artística del Paraguay (UPAP) invita a participar de la Conferencia Magistral sobre Estrategia y Comunicación Política\, a ser desarrollada el viernes 25 de febrero a partir de las 19:00 h en el Salón Fundadores del Gran Hotel del Paraguay.
URL:https://upap.edu.py/eventos/conferencia-magistral-sobre-estrategia-y-comunicacion-politica/
ATTACH;FMTTYPE=image/png:https://upap.edu.py/wp-content/uploads/2022/02/Conferencia-Magistral-Cuadrado-UPAP.png
END:VEVENT
END:VCALENDAR