BEGIN:VCALENDAR
VERSION:2.0
PRODID:-//UPAP - ECPv6.2.8.2//NONSGML v1.0//EN
CALSCALE:GREGORIAN
METHOD:PUBLISH
X-WR-CALNAME:UPAP
X-ORIGINAL-URL:https://upap.edu.py
X-WR-CALDESC:Eventos para UPAP
REFRESH-INTERVAL;VALUE=DURATION:PT1H
X-Robots-Tag:noindex
X-PUBLISHED-TTL:PT1H
BEGIN:VTIMEZONE
TZID:America/Asuncion
BEGIN:STANDARD
TZOFFSETFROM:-0300
TZOFFSETTO:-0400
TZNAME:-04
DTSTART:20220327T030000
END:STANDARD
BEGIN:DAYLIGHT
TZOFFSETFROM:-0400
TZOFFSETTO:-0300
TZNAME:-03
DTSTART:20221002T040000
END:DAYLIGHT
END:VTIMEZONE
BEGIN:VEVENT
DTSTART;TZID=America/Asuncion:20220524T210000
DTEND;TZID=America/Asuncion:20220524T230000
DTSTAMP:20260419T222951
CREATED:20220516T143526Z
LAST-MODIFIED:20220516T143526Z
UID:21203-1653426000-1653433200@upap.edu.py
SUMMARY:Durante el concierto “The Legend” brindarán homenaje al Prof. Dr. Manuel Viedma
DESCRIPTION:La Universidad Politécnica y Artística del Paraguay (UPAP) hace extensiva la invitación a participar del concierto “The Legend” en homenaje al Prof. Dr. Manuel Viedma\, artista\, pintor-ilustrador de la época guaraní-jesuítica\, fundador y rector de la institución. \nEl espectáculo tendrá lugar el 24 de mayo a las 21:00 h en el Centro Cultural Paraguayo Japonés y es el primero de una serie de concierto-homenaje 2022. Contará con la participación de la artista Gloria del Paraguay\, la Orquesta Sinfónica de la Policía Nacional y Rosa Virgili\, artista invitada. \nLas entradas pueden ser adquiridas en el Centro Cultural Paraguayo Japonés o comunicándose al (021) 607 717 de 09:00 a 17:00 h o al (0981) 822 702. Para mayores informes los interesados pueden contactar al (0983) 455 429. \n 
URL:https://upap.edu.py/eventos/durante-el-concierto-the-legend-brindaran-homenaje-al-prof-dr-manuel-viedma/
ATTACH;FMTTYPE=image/jpeg:https://upap.edu.py/wp-content/uploads/2022/05/Concierto-The-Legend-Cuadrado.jpg
END:VEVENT
END:VCALENDAR