BEGIN:VCALENDAR
VERSION:2.0
PRODID:-//UPAP - ECPv6.2.8.2//NONSGML v1.0//EN
CALSCALE:GREGORIAN
METHOD:PUBLISH
X-WR-CALNAME:UPAP
X-ORIGINAL-URL:https://upap.edu.py
X-WR-CALDESC:Eventos para UPAP
REFRESH-INTERVAL;VALUE=DURATION:PT1H
X-Robots-Tag:noindex
X-PUBLISHED-TTL:PT1H
BEGIN:VTIMEZONE
TZID:America/Asuncion
BEGIN:STANDARD
TZOFFSETFROM:-0300
TZOFFSETTO:-0400
TZNAME:-04
DTSTART:20220327T030000
END:STANDARD
BEGIN:DAYLIGHT
TZOFFSETFROM:-0400
TZOFFSETTO:-0300
TZNAME:-03
DTSTART:20221002T040000
END:DAYLIGHT
END:VTIMEZONE
BEGIN:VEVENT
DTSTART;TZID=America/Asuncion:20220727T180000
DTEND;TZID=America/Asuncion:20220727T190000
DTSTAMP:20260420T021251
CREATED:20220719T134354Z
LAST-MODIFIED:20220719T134354Z
UID:21732-1658944800-1658948400@upap.edu.py
SUMMARY:UPAP presentará proyecto denominado “Arte e Intertextualidad” durante el III Foro de Creatividad Solidaria
DESCRIPTION:En el marco del III Foro de Creatividad Solidaria a ser desarrollado durante la XVII Semana Internacional del Diseño 2022\, la Universidad Politécnica y Artística del Paraguay (UPAP) presentará el proyecto denominado “Arte e Intertextualidad”. \nLa presentación tendrá lugar el miércoles 27 de julio a las 18:00 h y estará cargo del Lic. Luciano Gandolfo\, director de Extensión Universitaria de la UPAP junto a Fabiana Franco\, coordinadora del proyecto. \nEl Foro de Creatividad Solidaria 2022 reconoce y promueve a profesionales\, estudiantes y emprendedores que contribuyen e impactan en el mejoramiento de la calidad de vida de sus comunidades y/o el medio ambiente a través de sus acciones\, ideas\, diseños\, productos\, obras y proyectos. Los interesados en participar pueden inscribirse a través del siguiente enlace: https://bit.ly/3aFcOdq.
URL:https://upap.edu.py/eventos/upap-presentara-proyecto-denominado-arte-e-intertextualidad-durante-el-iii-foro-de-creatividad-solidaria/
ATTACH;FMTTYPE=image/jpeg:https://upap.edu.py/wp-content/uploads/2022/07/CuadradoUPAPForoCreatividad.jpg
END:VEVENT
BEGIN:VEVENT
DTSTART;TZID=America/Asuncion:20220727T180000
DTEND;TZID=America/Asuncion:20220727T200000
DTSTAMP:20260420T021251
CREATED:20220725T221834Z
LAST-MODIFIED:20220725T221834Z
UID:21798-1658944800-1658952000@upap.edu.py
SUMMARY:Seminario de promoción y prevención de la salud con énfasis en Enfermería
DESCRIPTION:Con el objetivo de brindar herramientas cognitivas y destrezas que promuevan y faciliten las acciones\, procedimientos e intervenciones integrales orientadas a la población y las condiciones para vivir y disfrutar de una vida saludable\, la filial Luque de la Universidad Politécnica y Artística del Paraguay (UPAP)\, invita al “Seminario de promoción y prevención de la salud con énfasis en Enfermería”. \nLa actividad formativa está dirigida a estudiantes de la carrera de Enfermería y tendrá desarrollo el miércoles 27 de julio a las 18:00 h en el salón auditorio de la filial Luque\, en el marco del proyecto denominado “Barrio Sostenible”. \nLos participantes podrán fortalecer sus conocimientos en materia de promoción y prevención de la salud para la implementación de acciones a nivel comunitario\, así como\, determinar la relevancia de la puesta en práctica de las mismas con énfasis en el quehacer diario de la enfermería\, como agentes multiplicadores de la salud.
URL:https://upap.edu.py/eventos/seminario-de-promocion-y-prevencion-de-la-salud-con-enfasis-en-enfermeria/
ATTACH;FMTTYPE=image/png:https://upap.edu.py/wp-content/uploads/2022/07/UPAP-Seminario-Enfermeria-KV.png
END:VEVENT
END:VCALENDAR