BEGIN:VCALENDAR
VERSION:2.0
PRODID:-//UPAP - ECPv6.2.8.2//NONSGML v1.0//EN
CALSCALE:GREGORIAN
METHOD:PUBLISH
X-WR-CALNAME:UPAP
X-ORIGINAL-URL:https://upap.edu.py
X-WR-CALDESC:Eventos para UPAP
REFRESH-INTERVAL;VALUE=DURATION:PT1H
X-Robots-Tag:noindex
X-PUBLISHED-TTL:PT1H
BEGIN:VTIMEZONE
TZID:America/Asuncion
BEGIN:STANDARD
TZOFFSETFROM:-0300
TZOFFSETTO:-0400
TZNAME:-04
DTSTART:20220327T030000
END:STANDARD
BEGIN:DAYLIGHT
TZOFFSETFROM:-0400
TZOFFSETTO:-0300
TZNAME:-03
DTSTART:20221002T040000
END:DAYLIGHT
END:VTIMEZONE
BEGIN:VEVENT
DTSTART;TZID=America/Asuncion:20221019T150000
DTEND;TZID=America/Asuncion:20221019T200000
DTSTAMP:20260420T073736
CREATED:20221014T184005Z
LAST-MODIFIED:20221014T184005Z
UID:22625-1666191600-1666209600@upap.edu.py
SUMMARY:Congreso Internacional “El emprendimiento. Herramienta de desarrollo en las economías locales”
DESCRIPTION:La Facultad de Ciencias Empresariales de la Universidad Politécnica y Artística del Paraguay (UPAP) invita al Congreso Internacional “El emprendimiento. Herramienta de desarrollo en las economías locales”. El evento se realizará en la modalidad virtual el miércoles 19 de octubre desde las 15:00 h. La participación es libre y gratuita\, los interesados podrán solicitar certificación de manera opcional. \nLa actividad formativa propone la difusión y el fortalecimiento de conocimientos en relación a las tendencias de emprendimientos a nivel regional\, así como\, sobre temas vinculados a las carreras empresariales\, las economías de innovación y la identificación de realidades sobre producción e inversión. Está dirigida a estudiantes y docentes de las carreas a fines de la institución.
URL:https://upap.edu.py/eventos/congreso-internacional-el-emprendimiento-herramienta-de-desarrollo-en-las-economias-locales/
ATTACH;FMTTYPE=image/png:https://upap.edu.py/wp-content/uploads/2022/10/UPAP-Congreso-Internacional-Emprendimiento-Cuadrado.png
END:VEVENT
END:VCALENDAR