BEGIN:VCALENDAR
VERSION:2.0
PRODID:-//UPAP - ECPv6.2.8.2//NONSGML v1.0//EN
CALSCALE:GREGORIAN
METHOD:PUBLISH
X-WR-CALNAME:UPAP
X-ORIGINAL-URL:https://upap.edu.py
X-WR-CALDESC:Eventos para UPAP
REFRESH-INTERVAL;VALUE=DURATION:PT1H
X-Robots-Tag:noindex
X-PUBLISHED-TTL:PT1H
BEGIN:VTIMEZONE
TZID:America/Asuncion
BEGIN:STANDARD
TZOFFSETFROM:-0300
TZOFFSETTO:-0400
TZNAME:-04
DTSTART:20230326T030000
END:STANDARD
BEGIN:DAYLIGHT
TZOFFSETFROM:-0400
TZOFFSETTO:-0300
TZNAME:-03
DTSTART:20231001T040000
END:DAYLIGHT
END:VTIMEZONE
BEGIN:VEVENT
DTSTART;TZID=America/Asuncion:20231006T080000
DTEND;TZID=America/Asuncion:20231006T190000
DTSTAMP:20260420T121820
CREATED:20230912T150035Z
LAST-MODIFIED:20230919T222046Z
UID:24918-1696579200-1696618800@upap.edu.py
SUMMARY:Congreso Internacional: Sustentabilidad en la Ingeniería y la Arquitectura.
DESCRIPTION:La UPAP realizará un congreso internacional con reconocidos expertos en el campo de la sustentabilidad y la ingeniería para crear conciencia sobre la importancia del cuidado del medio ambiente. \nEl evento tendrá lugar el 06 de Octubre en el Auditorio de la Sede Central de Asunción. El evento está dirigido a estudiantes de las Facultades de Arquitectura e Ingeniería y comenzará a las 08:00h de la mañana\, hasta las 19:00h del mismo día \n. \n 
URL:https://upap.edu.py/eventos/congreso-internacional-sustentabilidad-en-la-ingenieria-y-la-arquitectura/
ATTACH;FMTTYPE=image/jpeg:https://upap.edu.py/wp-content/uploads/2023/09/035-WEB-1x1-2.jpg
END:VEVENT
END:VCALENDAR