BEGIN:VCALENDAR
VERSION:2.0
PRODID:-//UPAP - ECPv6.2.8.2//NONSGML v1.0//EN
CALSCALE:GREGORIAN
METHOD:PUBLISH
X-ORIGINAL-URL:https://upap.edu.py
X-WR-CALDESC:Eventos para UPAP
REFRESH-INTERVAL;VALUE=DURATION:PT1H
X-Robots-Tag:noindex
X-PUBLISHED-TTL:PT1H
BEGIN:VTIMEZONE
TZID:America/Asuncion
BEGIN:STANDARD
TZOFFSETFROM:-0300
TZOFFSETTO:-0400
TZNAME:-04
DTSTART:20230326T030000
END:STANDARD
BEGIN:DAYLIGHT
TZOFFSETFROM:-0400
TZOFFSETTO:-0300
TZNAME:-03
DTSTART:20231001T040000
END:DAYLIGHT
END:VTIMEZONE
BEGIN:VEVENT
DTSTART;TZID=America/Asuncion:20231005T170000
DTEND;TZID=America/Asuncion:20231005T210000
DTSTAMP:20260420T141150
CREATED:20230919T222006Z
LAST-MODIFIED:20230925T211927Z
UID:25136-1696525200-1696539600@upap.edu.py
SUMMARY:Convocatoria para participar en el Congreso Internacional de la Facultad de Ciencias Jurídicas de la UPAP – Edición 2023
DESCRIPTION:La Dra. María Eugenia Crichigno\, Decana de la Facultad de Ciencias Jurídicas de la Universidad Politécnica y Artística del Paraguay (UPAP)\, invita a estudiantes\, egresados\, docentes y profesionales a participar del CONGRESO “DERECHO\, SOCIEDAD Y TECNOLOGIA” a desarrollarse el día jueves 05 de octubre 2023 en la modalidad híbrida.  \nLa modalidad presencial tendrá lugar en el Salón Auditorio de la Sede Central en la Ciudad de Asunción y la virtual será a través de la plataforma zoom\, con previa inscripción. El costo de participación para la modalidad virtual es de Gs. 60.000  y la modalidad presencial es de Gs. 80.000\, incluye certificación.  \nEn este congreso se darán a conocer las nuevas tendencias en materia de tecnología y sus cambios significativos en los procesos legales\, analizando las posibilidades de fraudes electrónicos y el impacto en el uso de recursos naturales. \n 
URL:https://upap.edu.py/eventos/convocatoria-para-participar-en-el-congreso-internacional-de-la-facultad-de-ciencias-juridicas-de-la-upap-edicion-2023/
ATTACH;FMTTYPE=image/jpeg:https://upap.edu.py/wp-content/uploads/2023/09/WEB-1-1-1.jpg
END:VEVENT
BEGIN:VEVENT
DTSTART;TZID=America/Asuncion:20231006T080000
DTEND;TZID=America/Asuncion:20231006T190000
DTSTAMP:20260420T141150
CREATED:20230912T150035Z
LAST-MODIFIED:20230919T222046Z
UID:24918-1696579200-1696618800@upap.edu.py
SUMMARY:Congreso Internacional: Sustentabilidad en la Ingeniería y la Arquitectura.
DESCRIPTION:La UPAP realizará un congreso internacional con reconocidos expertos en el campo de la sustentabilidad y la ingeniería para crear conciencia sobre la importancia del cuidado del medio ambiente. \nEl evento tendrá lugar el 06 de Octubre en el Auditorio de la Sede Central de Asunción. El evento está dirigido a estudiantes de las Facultades de Arquitectura e Ingeniería y comenzará a las 08:00h de la mañana\, hasta las 19:00h del mismo día \n. \n 
URL:https://upap.edu.py/eventos/congreso-internacional-sustentabilidad-en-la-ingenieria-y-la-arquitectura/
ATTACH;FMTTYPE=image/jpeg:https://upap.edu.py/wp-content/uploads/2023/09/035-WEB-1x1-2.jpg
END:VEVENT
BEGIN:VEVENT
DTSTART;TZID=America/Asuncion:20231010T083000
DTEND;TZID=America/Asuncion:20231010T150000
DTSTAMP:20260420T141150
CREATED:20230922T225419Z
LAST-MODIFIED:20230926T182502Z
UID:25202-1696926600-1696950000@upap.edu.py
SUMMARY:UPAP prepara la VIII edición del Congreso Internacional Triple Frontera
DESCRIPTION:La Universidad Politécnica y Artística del Paraguay invita a estudiantes\, egresados de la Facultad de Ciencias de la Salud\, docentes y directivos de la institución\, a participar de la VIII edición del Congreso Internacional Triple Frontera “Actualización en Patologías Prevalentes’’ \nEl evento se dará los días 10 de octubre de 08:00 a 15:00 Hs y 11 de octubre de 08:00 a 13:00 Hs en el Centro Cultural Agustín Pío Barrios “Mangoré” de Ciudad del Este. Así también\, el encuentro se realizará de manera virtual a través de la plataforma zoom. \nEsta será la VIII edición del Congreso Internacional Triple Frontera. La UPAP se enorgullece de seguir aportando calidad y cantidad de investigaciones científicas a nivel local en colaboración con referentes internacionales. \n  \n \n 
URL:https://upap.edu.py/eventos/upap-prepara-la-viii-edicion-del-congreso-internacional-triple-frontera/
ATTACH;FMTTYPE=image/jpeg:https://upap.edu.py/wp-content/uploads/2023/09/064-banner-web-1.jpg
END:VEVENT
END:VCALENDAR