BEGIN:VCALENDAR
VERSION:2.0
PRODID:-//UPAP - ECPv6.2.8.2//NONSGML v1.0//EN
CALSCALE:GREGORIAN
METHOD:PUBLISH
X-ORIGINAL-URL:https://upap.edu.py
X-WR-CALDESC:Eventos para UPAP
REFRESH-INTERVAL;VALUE=DURATION:PT1H
X-Robots-Tag:noindex
X-PUBLISHED-TTL:PT1H
BEGIN:VTIMEZONE
TZID:UTC
BEGIN:STANDARD
TZOFFSETFROM:+0000
TZOFFSETTO:+0000
TZNAME:UTC
DTSTART:20210101T000000
END:STANDARD
END:VTIMEZONE
BEGIN:VEVENT
DTSTART;TZID=UTC:20210622T180000
DTEND;TZID=UTC:20210622T210000
DTSTAMP:20260419T223100
CREATED:20201217T234721Z
LAST-MODIFIED:20210625T141808Z
UID:6202-1624384800-1624395600@upap.edu.py
SUMMARY:Un emprendimiento exitoso: el caso del chocolate Pacari de Ecuador.
DESCRIPTION:A partir del convenio de cooperación académica y cultural establecido entre la Embajada de la República del Ecuador en Paraguay y la Universidad Politécnica y Artística del Paraguay (UPAP)\, el próximo 22 de junio a partir de las 18:00 h tendrá desarrollo el Conversatorio sobre un emprendimiento exitoso: el caso del Chocolate Pacari de Ecuador.  \nLa actividad está dirigida a estudiantes de las carreras de la Facultad de Ciencias Empresariales de la universidad\, profesionales e interesados en general. La participación es libre y gratuita\, con opción a certificación; el acceso a la misma será a través de la plataforma Zoom.
URL:https://upap.edu.py/eventos/nuevo-evento/
LOCATION:Plataforma Zoom\, Paraguay
ATTACH;FMTTYPE=image/jpeg:https://upap.edu.py/wp-content/uploads/2020/12/UPAP-Conversatorio-Chocolate-Pacari-Cuadrado1080x1080-MO150621.jpg
ORGANIZER;CN="UPAP":MAILTO:info@upap.edu.py
END:VEVENT
END:VCALENDAR