BEGIN:VCALENDAR
VERSION:2.0
PRODID:-//UPAP - ECPv6.2.8.2//NONSGML v1.0//EN
CALSCALE:GREGORIAN
METHOD:PUBLISH
X-ORIGINAL-URL:https://upap.edu.py
X-WR-CALDESC:Eventos para UPAP
REFRESH-INTERVAL;VALUE=DURATION:PT1H
X-Robots-Tag:noindex
X-PUBLISHED-TTL:PT1H
BEGIN:VTIMEZONE
TZID:America/Asuncion
BEGIN:STANDARD
TZOFFSETFROM:-0300
TZOFFSETTO:-0400
TZNAME:-04
DTSTART:20220327T030000
END:STANDARD
BEGIN:DAYLIGHT
TZOFFSETFROM:-0400
TZOFFSETTO:-0300
TZNAME:-03
DTSTART:20221002T040000
END:DAYLIGHT
END:VTIMEZONE
BEGIN:VEVENT
DTSTART;TZID=America/Asuncion:20220511T000000
DTEND;TZID=America/Asuncion:20220513T233000
DTSTAMP:20260419T203655
CREATED:20220510T194234Z
LAST-MODIFIED:20220510T194242Z
UID:21135-1652227200-1652484600@upap.edu.py
SUMMARY:Cumbre internacional Visión Zero Japón 2022
DESCRIPTION:En carácter de integrante del Comité Científico de la Fundación Internacional ORP\, la Universidad Politécnica y Artística del Paraguay (UPAP)\, a través de su Dirección de Orientación y Bienestar Estudiantil a cargo del Dr. José Enrique Schröder\, invita a su comunidad educativa\, en especial a estudiantes\, docentes y egresados de las carreras de Enfermería y Medicina\, a participar de la cumbre internacional Visión Zero Japón 2022. \nLa misma será desarrollada desde el 11 al 13 de mayo\, en la modalidad virtual y en el idioma inglés. Se trata de un evento de talla mundial que contará con la participación de más de 200 representantes de las organizaciones más relevantes\, entre ellos\, el director general de la Organización Mundial de la Salud\, ministros japoneses\, presidentes y directores de empresas como BMW\, Siemens\, L’Oréal\, Acciona\, entre otros. Los participantes recibirán un certificado oficial de asistencia\, días posteriores al evento.
URL:https://upap.edu.py/eventos/cumbre-internacional-vision-zero-japon-2022/
ATTACH;FMTTYPE=image/jpeg:https://upap.edu.py/wp-content/uploads/2022/05/CANVAS-NoticiaJAPAN-Web-UPAP.jpg
END:VEVENT
BEGIN:VEVENT
DTSTART;TZID=America/Asuncion:20220512T193000
DTEND;TZID=America/Asuncion:20220512T210000
DTSTAMP:20260419T203655
CREATED:20220510T184940Z
LAST-MODIFIED:20220510T211849Z
UID:21130-1652383800-1652389200@upap.edu.py
SUMMARY:Conversatorio «El valor de la obra de arte para el diseño y la arquitectura»
DESCRIPTION:Este jueves 12 de mayo\, desde las 19:30 h\, tendrá lugar el conversatorio «El valor de la obra de arte para el diseño y la arquitectura» impulsado por la Asociación de Galerías de Arte del Paraguay (ASGAPA)\, por lo que\, la Universidad Politécnica y Artística del Paraguay (UPAP) hace extensiva la invitación a sus estudiantes de Arte\, Arquitectura y docentes de las carreras afines a la temática. \nEl acceso es libre y gratuito. El conversatorio será desarrollado en la modalidad presencial en el pabellón de ASGAPA de Constructecnia 2022 y en la modalidad virtual a través la plataforma Zoom.
URL:https://upap.edu.py/eventos/conversatorio-el-valor-de-la-obra-de-arte-para-el-diseno-y-la-arquitectura/
ATTACH;FMTTYPE=image/png:https://upap.edu.py/wp-content/uploads/2022/05/Conferencia-UPAP-El-valor-del-arte-Cuadrado-1.png
END:VEVENT
BEGIN:VEVENT
DTSTART;TZID=America/Asuncion:20220524T210000
DTEND;TZID=America/Asuncion:20220524T230000
DTSTAMP:20260419T203655
CREATED:20220516T143526Z
LAST-MODIFIED:20220516T143526Z
UID:21203-1653426000-1653433200@upap.edu.py
SUMMARY:Durante el concierto “The Legend” brindarán homenaje al Prof. Dr. Manuel Viedma
DESCRIPTION:La Universidad Politécnica y Artística del Paraguay (UPAP) hace extensiva la invitación a participar del concierto “The Legend” en homenaje al Prof. Dr. Manuel Viedma\, artista\, pintor-ilustrador de la época guaraní-jesuítica\, fundador y rector de la institución. \nEl espectáculo tendrá lugar el 24 de mayo a las 21:00 h en el Centro Cultural Paraguayo Japonés y es el primero de una serie de concierto-homenaje 2022. Contará con la participación de la artista Gloria del Paraguay\, la Orquesta Sinfónica de la Policía Nacional y Rosa Virgili\, artista invitada. \nLas entradas pueden ser adquiridas en el Centro Cultural Paraguayo Japonés o comunicándose al (021) 607 717 de 09:00 a 17:00 h o al (0981) 822 702. Para mayores informes los interesados pueden contactar al (0983) 455 429. \n 
URL:https://upap.edu.py/eventos/durante-el-concierto-the-legend-brindaran-homenaje-al-prof-dr-manuel-viedma/
ATTACH;FMTTYPE=image/jpeg:https://upap.edu.py/wp-content/uploads/2022/05/Concierto-The-Legend-Cuadrado.jpg
END:VEVENT
END:VCALENDAR