BEGIN:VCALENDAR
VERSION:2.0
PRODID:-//UPAP - ECPv6.2.8.2//NONSGML v1.0//EN
CALSCALE:GREGORIAN
METHOD:PUBLISH
X-ORIGINAL-URL:https://upap.edu.py
X-WR-CALDESC:Eventos para UPAP
REFRESH-INTERVAL;VALUE=DURATION:PT1H
X-Robots-Tag:noindex
X-PUBLISHED-TTL:PT1H
BEGIN:VTIMEZONE
TZID:America/Asuncion
BEGIN:STANDARD
TZOFFSETFROM:-0300
TZOFFSETTO:-0400
TZNAME:-04
DTSTART:20220327T030000
END:STANDARD
BEGIN:DAYLIGHT
TZOFFSETFROM:-0400
TZOFFSETTO:-0300
TZNAME:-03
DTSTART:20221002T040000
END:DAYLIGHT
END:VTIMEZONE
BEGIN:VEVENT
DTSTART;TZID=America/Asuncion:20220607T190000
DTEND;TZID=America/Asuncion:20220607T210000
DTSTAMP:20260419T223637
CREATED:20220603T215223Z
LAST-MODIFIED:20220603T215223Z
UID:21402-1654628400-1654635600@upap.edu.py
SUMMARY:Conferencia magistral “Origen\, Desarrollo y Perspectivas del Proceso Constituyente en Chile”
DESCRIPTION:Conmemorando los 30 años de la actual Constitución Nacional del Paraguay\, la Universidad Politécnica y Artística del Paraguay (UPAP)\, presenta la conferencia “Origen\, Desarrollo y Perspectivas del Proceso Constituyente en Chile”\, a cargo del constitucionalista chileno Dr. Víctor Manuel Avilés Hernández\, actividad que contará con la participación especial del Dr. Moreno Rodríguez Alcalá\, profesor de Teoría Constitucional de la Universidad Católica de Asunción. \nEl encuentro está previsto para el martes 7 de junio desde las 19 horas\, modalidad vía plataforma Zoom con acceso libre\, orientado a estudiantes\, docentes\, autoridades nacionales\, así como a público general.  Además\, cuenta con el apoyo del Colegio de Abogados del Paraguay; Instituto Paraguayo de Derecho Constitucional y la Secretaría del Tribunal Permanente de Revisión del MERCOSUR.
URL:https://upap.edu.py/eventos/conferencia-magistral-origen-desarrollo-y-perspectivas-del-proceso-constituyente-en-chile/
ATTACH;FMTTYPE=image/png:https://upap.edu.py/wp-content/uploads/2022/06/UPAP-Conferencia-Magistral-Cuadrado.png
END:VEVENT
BEGIN:VEVENT
DTSTART;TZID=America/Asuncion:20220623T133000
DTEND;TZID=America/Asuncion:20220623T140000
DTSTAMP:20260419T223637
CREATED:20220621T142529Z
LAST-MODIFIED:20220621T142529Z
UID:21517-1655991000-1655992800@upap.edu.py
SUMMARY:Uso y aplicación de las herramientas y funciones de la Biblioteca Virtual CICCO
DESCRIPTION:La Dirección de Investigación de la Universidad Politécnica y Artística del Paraguay (UPAP) invita a participar de la capacitación “Uso y aplicación de las herramientas y funciones de la Biblioteca Virtual CICCO”\, a desarrollarse este jueves 23 de junio de 13:00 a 14:00 h en la modalidad virtual a través de la plataforma Zoom. \nEl espacio tiene por objetivo capacitar a los participantes en la búsqueda y selección de información científica\, fomentar y fortalecer la formación del plantel docente\, directivos académicos y estudiantes de la UPAP. \nEstará a cargo de la capacitadora Brenda Gauto del Centro de Información Científica del CONACYT (CICCO). La capacitación está dirigida a la comunidad educativa en general\, la participación será libre y gratuita.
URL:https://upap.edu.py/eventos/uso-y-aplicacion-de-las-herramientas-y-funciones-de-la-biblioteca-virtual-cicco/
ATTACH;FMTTYPE=image/jpeg:https://upap.edu.py/wp-content/uploads/2022/06/UPAP-CAPACITACION-CICCO1-2.jpg
END:VEVENT
BEGIN:VEVENT
DTSTART;TZID=America/Asuncion:20220627T140000
DTEND;TZID=America/Asuncion:20220627T153000
DTSTAMP:20260419T223637
CREATED:20220623T161221Z
LAST-MODIFIED:20220623T161221Z
UID:21588-1656338400-1656343800@upap.edu.py
SUMMARY:Jornada de capacitación “Diagnóstico y tratamiento del VIH/SIDA”
DESCRIPTION:En el marco de las actividades de Extensión Universitaria\, el próximo lunes 27 de junio a las 14:00 h\, en la filial Ciudad del Este Área 2 de la Universidad Politécnica y Artística del Paraguay (UPAP)\, tendrá desarrollo la jornada de capacitación “Diagnóstico y tratamiento del VIH/SIDA”. \nLa misma está dirigida a estudiantes de la carrera de Medicina y contará con el abordaje de aspectos importantes concernientes al VIH/SIDA\, tales como\, actualizaciones en las formas de diagnóstico del virus y los tratamientos más utilizados en la actualidad\, a cargo de destacados profesionales del Programa Nacional de Control del Sida (Pronasida)
URL:https://upap.edu.py/eventos/jornada-de-capacitacion-diagnostico-y-tratamiento-del-vih-sida/
ATTACH;FMTTYPE=image/png:https://upap.edu.py/wp-content/uploads/2022/06/UPAP-JornadaCapa-VIH-cuadrado1.png
END:VEVENT
BEGIN:VEVENT
DTSTART;TZID=America/Asuncion:20220630T180000
DTEND;TZID=America/Asuncion:20220630T190000
DTSTAMP:20260419T223637
CREATED:20220621T215704Z
LAST-MODIFIED:20220621T215704Z
UID:21535-1656612000-1656615600@upap.edu.py
SUMMARY:Charla informativa “Cómo publicar en la Revista Científica de la UPAP”
DESCRIPTION:Invitamos a participar de la charla informativa “Cómo publicar en la Revista Científica de la UPAP” impulsada por la Dirección de Investigación e Innovación de la Universidad Politécnica y Artística del Paraguay (UPAP)\, a desarrollarse el próximo jueves 30 de junio a partir de las 18:00 h en la modalidad virtual\, a través de la plataforma Google Meet. \nLa charla está dirigida a investigadores\, docentes\, tesistas y estudiantes interesados en la investigación. Será desarrollada por el Dr. Fredy Génez Báez\, director de Investigación e Innovación y la Mag. Mirian Contrera\, coordinadora general de Investigación. \nEl espacio tiene por objetivo presentar las áreas o temas de investigación llevadas adelante por la UPAP\, sobre las cuales los participantes podrán realizar consultas\, inclusive conversar sobre oportunidades de investigación conjunta\, intercambios y otros.
URL:https://upap.edu.py/eventos/charla-informativa-como-publicar-en-la-revista-cientifica-de-la-upap/
ATTACH;FMTTYPE=image/png:https://upap.edu.py/wp-content/uploads/2022/06/UPAP-Charla-informativa-Cuadrado.png
END:VEVENT
END:VCALENDAR