BEGIN:VCALENDAR
VERSION:2.0
PRODID:-//UPAP - ECPv6.2.8.2//NONSGML v1.0//EN
CALSCALE:GREGORIAN
METHOD:PUBLISH
X-WR-CALNAME:UPAP
X-ORIGINAL-URL:https://upap.edu.py
X-WR-CALDESC:Eventos para UPAP
REFRESH-INTERVAL;VALUE=DURATION:PT1H
X-Robots-Tag:noindex
X-PUBLISHED-TTL:PT1H
BEGIN:VTIMEZONE
TZID:America/Asuncion
BEGIN:STANDARD
TZOFFSETFROM:-0300
TZOFFSETTO:-0400
TZNAME:-04
DTSTART:20220327T030000
END:STANDARD
BEGIN:DAYLIGHT
TZOFFSETFROM:-0400
TZOFFSETTO:-0300
TZNAME:-03
DTSTART:20221002T040000
END:DAYLIGHT
END:VTIMEZONE
BEGIN:VEVENT
DTSTART;TZID=America/Asuncion:20220811T180000
DTEND;TZID=America/Asuncion:20221007T190000
DTSTAMP:20260420T055140
CREATED:20220722T221208Z
LAST-MODIFIED:20220722T221208Z
UID:21784-1660240800-1665169200@upap.edu.py
SUMMARY:Ciclo virtual de talleres de formación en investigación
DESCRIPTION:La Dirección de Investigación e Innovación de la UPAP organiza un ciclo de talleres de formación y refuerzo en el uso de herramientas\, procedimientos\, así como de las nuevas perspectivas centradas en la tarea investigativa aplicada en los diferentes espacios académicos. Los talleres forman parte de una propuesta dirigida a los docentes e investigadores de la institución en el marco de seguir promoviendo la calidad en producción científica local. \nLas actividades\, que requieren previa inscripción y serán impartidas los jueves de 18 a 19 horas\, tendrán lugar mediante la plataforma virtual Canvas; serán dirigidas por el Dr. Fredy Génez Báez\, director de Investigación e Innovación y la Mgtr. Mirian Contrera González\, coordinadora general de Investigación. \nLa inscripción estará abierta hasta el 07 de agosto.
URL:https://upap.edu.py/eventos/ciclo-virtual-de-talleres-de-formacion-en-investigacion/
ATTACH;FMTTYPE=image/png:https://upap.edu.py/wp-content/uploads/2022/07/UPAP-CicloInvestigacion-Talleres-Cuadrado.png
END:VEVENT
BEGIN:VEVENT
DTSTART;TZID=America/Asuncion:20221004T180000
DTEND;TZID=America/Asuncion:20221004T190000
DTSTAMP:20260420T055140
CREATED:20221004T131525Z
LAST-MODIFIED:20221004T131548Z
UID:22475-1664906400-1664910000@upap.edu.py
SUMMARY:Conversatorio “Creatividad y publicidad en Paraguay”
DESCRIPTION:Como institución aliada del Tatakua 2022\, invitamos a nuestros estudiantes a participar del conversatorio “Creatividad y publicidad en Paraguay” a ser desarrollada por el comunicador y empresario Arturo Valiente\, este martes 4 de octubre a partir de las 18:00 h a través de la plataforma Zoom. \nLa actividad está dirigida a estudiantes de las carreras de Marketing\, Periodismo\, Publicidad\, Diseño y afines. El objetivo radica en destacar el trabajo realizado e inspirar a las nuevas generaciones a seguir desarrollando su creatividad a través de las marcas.
URL:https://upap.edu.py/eventos/conversatorio-creatividad-y-publicidad-en-paraguay/
ATTACH;FMTTYPE=image/png:https://upap.edu.py/wp-content/uploads/2022/10/UPAP-CREATIVIDAD-CUADRADO-EM-300922.png
END:VEVENT
BEGIN:VEVENT
DTSTART;TZID=America/Asuncion:20221006T100000
DTEND;TZID=America/Asuncion:20221006T120000
DTSTAMP:20260420T055140
CREATED:20220929T184031Z
LAST-MODIFIED:20220929T184100Z
UID:22434-1665050400-1665057600@upap.edu.py
SUMMARY:Capacitación sobre educación inclusiva y accesible
DESCRIPTION:La Universidad Politécnica y Artística del Paraguay (UPAP)\, invita a su plantel docente\, directivo\, administrativo y de apoyo a participar del “Taller de capacitación en el contexto de la educación inclusiva y accesible de la universidad”. El mismo es impulsado a partir de la alianza establecida junto con la Secretaría Nacional por los Derechos Humanos de las Personas con Discapacidad (Senadis). \nLa capacitación se realizará a través de la plataforma Canvas los días jueves 6 y martes 11 de octubre de 10:00 a 12:00 h\, ambas jornadas propiciarán un espacio abierto a las consultas del auditorio virtual abordando temas específicos sobre el manejo de personas con discapacidad\, a fin de capacitar al plantel sobre la salud mental y su vínculo con la educación inclusiva dentro de la universidad.
URL:https://upap.edu.py/eventos/capacitacion-sobre-educacion-inclusiva-y-accesible/
ATTACH;FMTTYPE=image/png:https://upap.edu.py/wp-content/uploads/2022/09/UPAP-TallerSenadis-Educacion-Cuadrado.png
END:VEVENT
BEGIN:VEVENT
DTSTART;TZID=America/Asuncion:20221012T090000
DTEND;TZID=America/Asuncion:20221012T190000
DTSTAMP:20260420T055140
CREATED:20221005T215418Z
LAST-MODIFIED:20221005T215418Z
UID:22527-1665565200-1665601200@upap.edu.py
SUMMARY:Congreso Internacional “La Innovación en el enfoque de la arquitectura e ingeniería”
DESCRIPTION:A través de la Facultad de Arte y Tecnología\, la Universidad Politécnica y Artística del Paraguay (UPAP)\, invita a participar del Congreso internacional “La innovación en el enfoque de la arquitectura e ingeniería”\, a realizarse el próximo 12 de octubre de 09:00 a 19:00 h en la modalidad híbrida (presencial en la sede Central\, virtual a través de la plataforma zoom). \nLa actividad está dirigida a estudiantes de Arquitectura\, Ingeniería Civil e Ingeniería Industrial. La participación tiene en costo de G. 60.000 para la modalidad virtual y G. 80.000 para la presencial\, ambos montos estipulan la certificación.
URL:https://upap.edu.py/eventos/congreso-internacional-la-innovacion-en-el-enfoque-de-la-arquitectura-e-ingenieria/
ATTACH;FMTTYPE=image/jpeg:https://upap.edu.py/wp-content/uploads/2022/10/CongIntArq_Ing_Canvas.jpg
END:VEVENT
BEGIN:VEVENT
DTSTART;TZID=America/Asuncion:20221019T150000
DTEND;TZID=America/Asuncion:20221019T200000
DTSTAMP:20260420T055140
CREATED:20221014T184005Z
LAST-MODIFIED:20221014T184005Z
UID:22625-1666191600-1666209600@upap.edu.py
SUMMARY:Congreso Internacional “El emprendimiento. Herramienta de desarrollo en las economías locales”
DESCRIPTION:La Facultad de Ciencias Empresariales de la Universidad Politécnica y Artística del Paraguay (UPAP) invita al Congreso Internacional “El emprendimiento. Herramienta de desarrollo en las economías locales”. El evento se realizará en la modalidad virtual el miércoles 19 de octubre desde las 15:00 h. La participación es libre y gratuita\, los interesados podrán solicitar certificación de manera opcional. \nLa actividad formativa propone la difusión y el fortalecimiento de conocimientos en relación a las tendencias de emprendimientos a nivel regional\, así como\, sobre temas vinculados a las carreras empresariales\, las economías de innovación y la identificación de realidades sobre producción e inversión. Está dirigida a estudiantes y docentes de las carreas a fines de la institución.
URL:https://upap.edu.py/eventos/congreso-internacional-el-emprendimiento-herramienta-de-desarrollo-en-las-economias-locales/
ATTACH;FMTTYPE=image/png:https://upap.edu.py/wp-content/uploads/2022/10/UPAP-Congreso-Internacional-Emprendimiento-Cuadrado.png
END:VEVENT
END:VCALENDAR